BEGIN:VCALENDAR
VERSION:2.0
PRODID:-//HervormdGrootAmmers - ECPv6.11.2//NONSGML v1.0//EN
CALSCALE:GREGORIAN
METHOD:PUBLISH
X-ORIGINAL-URL:https://hervormdgrootammers.nl
X-WR-CALDESC:Evenementen voor HervormdGrootAmmers
REFRESH-INTERVAL;VALUE=DURATION:PT1H
X-Robots-Tag:noindex
X-PUBLISHED-TTL:PT1H
BEGIN:VTIMEZONE
TZID:Europe/Paris
BEGIN:DAYLIGHT
TZOFFSETFROM:+0100
TZOFFSETTO:+0200
TZNAME:CEST
DTSTART:20260329T010000
END:DAYLIGHT
BEGIN:STANDARD
TZOFFSETFROM:+0200
TZOFFSETTO:+0100
TZNAME:CET
DTSTART:20261025T010000
END:STANDARD
END:VTIMEZONE
BEGIN:VEVENT
DTSTART;TZID=Europe/Paris:20260201T093000
DTEND;TZID=Europe/Paris:20260201T110000
DTSTAMP:20260423T122434
CREATED:20260129T191557Z
LAST-MODIFIED:20260129T191557Z
UID:6371-1769938200-1769943600@hervormdgrootammers.nl
SUMMARY:Ds. J. W. Verboom (Apeldoorn)
DESCRIPTION:
URL:https://hervormdgrootammers.nl/agenda/ds-j-w-verboom-apeldoorn/
LOCATION:Kerk\, Kerkstraat 8\, Groot-Ammers\, 2964 BV\, Nederland
CATEGORIES:Kerkdiensten
END:VEVENT
BEGIN:VEVENT
DTSTART;TZID=Europe/Paris:20260201T183000
DTEND;TZID=Europe/Paris:20260201T200000
DTSTAMP:20260423T122434
CREATED:20260129T191655Z
LAST-MODIFIED:20260129T191655Z
UID:6373-1769970600-1769976000@hervormdgrootammers.nl
SUMMARY:Kerkdienst | Ds. K. Hak
DESCRIPTION:
URL:https://hervormdgrootammers.nl/agenda/kerkdienst-ds-k-hak-3/
LOCATION:Kerk\, Kerkstraat 8\, Groot-Ammers\, 2964 BV\, Nederland
CATEGORIES:Kerkdiensten
END:VEVENT
END:VCALENDAR