BEGIN:VCALENDAR
VERSION:2.0
PRODID:-//HervormdGrootAmmers - ECPv6.11.2//NONSGML v1.0//EN
CALSCALE:GREGORIAN
METHOD:PUBLISH
X-WR-CALNAME:HervormdGrootAmmers
X-ORIGINAL-URL:https://hervormdgrootammers.nl
X-WR-CALDESC:Evenementen voor HervormdGrootAmmers
REFRESH-INTERVAL;VALUE=DURATION:PT1H
X-Robots-Tag:noindex
X-PUBLISHED-TTL:PT1H
BEGIN:VTIMEZONE
TZID:Europe/Paris
BEGIN:DAYLIGHT
TZOFFSETFROM:+0100
TZOFFSETTO:+0200
TZNAME:CEST
DTSTART:20260329T010000
END:DAYLIGHT
BEGIN:STANDARD
TZOFFSETFROM:+0200
TZOFFSETTO:+0100
TZNAME:CET
DTSTART:20261025T010000
END:STANDARD
END:VTIMEZONE
BEGIN:VEVENT
DTSTART;TZID=Europe/Paris:20260503T093000
DTEND;TZID=Europe/Paris:20260503T110000
DTSTAMP:20260419T221902
CREATED:20260301T131606Z
LAST-MODIFIED:20260301T131606Z
UID:6450-1777800600-1777806000@hervormdgrootammers.nl
SUMMARY:Kerkdienst | Ds. K. Hak (Heilige Doop)
DESCRIPTION:
URL:https://hervormdgrootammers.nl/agenda/kerkdienst-ds-k-hak-heilige-doop-3/
LOCATION:Kerk\, Kerkstraat 8\, Groot-Ammers\, 2964 BV\, Nederland
CATEGORIES:Kerkdiensten
END:VEVENT
BEGIN:VEVENT
DTSTART;TZID=Europe/Paris:20260503T183000
DTEND;TZID=Europe/Paris:20260503T200000
DTSTAMP:20260419T221902
CREATED:20260301T131712Z
LAST-MODIFIED:20260301T131712Z
UID:6452-1777833000-1777838400@hervormdgrootammers.nl
SUMMARY:Kerkdienst | Ds. B.J.P. de Bruin (Middelburg)
DESCRIPTION:
URL:https://hervormdgrootammers.nl/agenda/kerkdienst-ds-b-j-p-de-bruin-middelburg/
LOCATION:Kerk\, Kerkstraat 8\, Groot-Ammers\, 2964 BV\, Nederland
CATEGORIES:Kerkdiensten
END:VEVENT
END:VCALENDAR