BEGIN:VCALENDAR
VERSION:2.0
PRODID:-//HervormdGrootAmmers - ECPv6.11.2//NONSGML v1.0//EN
CALSCALE:GREGORIAN
METHOD:PUBLISH
X-WR-CALNAME:HervormdGrootAmmers
X-ORIGINAL-URL:https://hervormdgrootammers.nl
X-WR-CALDESC:Evenementen voor HervormdGrootAmmers
REFRESH-INTERVAL;VALUE=DURATION:PT1H
X-Robots-Tag:noindex
X-PUBLISHED-TTL:PT1H
BEGIN:VTIMEZONE
TZID:Europe/Paris
BEGIN:DAYLIGHT
TZOFFSETFROM:+0100
TZOFFSETTO:+0200
TZNAME:CEST
DTSTART:20260329T010000
END:DAYLIGHT
BEGIN:STANDARD
TZOFFSETFROM:+0200
TZOFFSETTO:+0100
TZNAME:CET
DTSTART:20261025T010000
END:STANDARD
END:VTIMEZONE
BEGIN:VEVENT
DTSTART;TZID=Europe/Paris:20261011T183000
DTEND;TZID=Europe/Paris:20261011T200000
DTSTAMP:20260419T234331
CREATED:20260416T173130Z
LAST-MODIFIED:20260416T173130Z
UID:6492-1791743400-1791748800@hervormdgrootammers.nl
SUMMARY:Kerkdienst | Ds. M. J. Van de Poel (Culemborg)
DESCRIPTION:
URL:https://hervormdgrootammers.nl/agenda/kerkdienst-ds-m-j-van-de-poel-culemborg/
LOCATION:Kerk\, Kerkstraat 8\, Groot-Ammers\, 2964 BV\, Nederland
CATEGORIES:Kerkdiensten
END:VEVENT
BEGIN:VEVENT
DTSTART;TZID=Europe/Paris:20261220T110000
DTEND;TZID=Europe/Paris:20261220T113000
DTSTAMP:20260419T234331
CREATED:20260226T133139Z
LAST-MODIFIED:20260226T133139Z
UID:6409-1797764400-1797766200@hervormdgrootammers.nl
SUMMARY:Zing door
DESCRIPTION:
URL:https://hervormdgrootammers.nl/agenda/zing-door-4/
LOCATION:Kerk\, Kerkstraat 8\, Groot-Ammers\, 2964 BV\, Nederland
CATEGORIES:Overig
END:VEVENT
END:VCALENDAR